BEGIN:VCALENDAR
VERSION:2.0
PRODID:-//eventon.com NONSGML v1.0//EN
CALSCALE:GREGORIAN
METHOD:PUBLISH
BEGIN:VEVENT
UID:69e76721e510b
DTSTAMP:20260421T120137Z
DTSTART:20241115T110000Z
DTEND:20241115T145000Z
LOCATION:Lazybird 札幌市北区北24条西4丁目3−3 三福ビル
SUMMARY:田中朋子セクステット
DESCRIPTION:田中朋子(ピアノ)奥野義典(アルトサックス)岡
 広(ギター)斎藤里菜(ベース)竹村一哲(ドラム)菅原[..]
URL:https://sugawarashoji.com/schedule/tanakatomoko/
END:VEVENT
END:VCALENDAR